 BEGIN:VCALENDAR
VERSION:2.0
PRODID:-//Wiltshire Carers - ECPv6.10.2//NONSGML v1.0//EN
CALSCALE:GREGORIAN
METHOD:PUBLISH
X-WR-CALNAME:Wiltshire Carers
X-ORIGINAL-URL:https://carerfriendlywiltshire.org.uk
X-WR-CALDESC:Events for Wiltshire Carers
REFRESH-INTERVAL;VALUE=DURATION:PT1H
X-Robots-Tag:noindex
X-PUBLISHED-TTL:PT1H
BEGIN:VTIMEZONE
TZID:Europe/London
BEGIN:DAYLIGHT
TZOFFSETFROM:+0000
TZOFFSETTO:+0100
TZNAME:BST
DTSTART:20250330T010000
END:DAYLIGHT
BEGIN:STANDARD
TZOFFSETFROM:+0100
TZOFFSETTO:+0000
TZNAME:GMT
DTSTART:20251026T010000
END:STANDARD
END:VTIMEZONE
BEGIN:VEVENT
DTSTART;TZID=Europe/London:20250406T090000
DTEND;TZID=Europe/London:20250406T100000
DTSTAMP:20260421T145916
CREATED:20240404T160144Z
LAST-MODIFIED:20240404T161409Z
UID:10001116-1743930000-1743933600@carerfriendlywiltshire.org.uk
SUMMARY:Chat and Connect Sessions for Parent Carers
DESCRIPTION:For parent carers of children/ young people with mental health needs. \nWhen your child is struggling with their mental health\, they can often feel completely alone. The ripple effect can leave us as parents feeling isolated\, ashamed\, or judged. \nParenting Mental Health is a charitable organisation that offers support and resources to help parents who are affected by the impact of their child’s mental health. Chat & Connect sessions are weekly informal online drop-in sessions where you can come and talk to other parents\, bring your worries\, bring your questions\, share your tips and wins and connect with others\, with people who get what you’re going through. \nThese sessions take place from Sunday 14 April 2024\, every week until Sunday 12th May 2024\,  9am-10am \nFind the joining links here.
URL:https://carerfriendlywiltshire.org.uk/event/chat-and-connect-sessions-for-parent-carers/2025-04-06/
LOCATION:Online
CATEGORIES:Parent Carer Online Group,Parent Carers
ATTACH;FMTTYPE=image/png:https://carerfriendlywiltshire.org.uk/wp-content/uploads/2024/04/Chat-Connect-Sunday.png
ORGANIZER;CN="Parenting Mental Health":MAILTO:info@parentingmentalhealth.com
END:VEVENT
BEGIN:VEVENT
DTSTART;TZID=Europe/London:20250407T133000
DTEND;TZID=Europe/London:20250407T143000
DTSTAMP:20260421T145916
CREATED:20240404T112927Z
LAST-MODIFIED:20240404T112942Z
UID:10000834-1744032600-1744036200@carerfriendlywiltshire.org.uk
SUMMARY:Find Your Voice Singing Group
DESCRIPTION:A fun online singing and social group for people with Parkinson’s\, other neurological conditions and long-term conditions and their Carers. You don’t have to be able to sing\, you don’t even need much of a voice (a whisper is fine) as we aim to help to improve the strength of your voice as well as working muscles that help with speech and swallowing.  We also have a good laugh too! \nThese sessions are weekly and are on a Monday at 1.30pm until 2.30pm\, please contact WSUN to find out more information\, 01380 871800 or info@wsun.co.uk
URL:https://carerfriendlywiltshire.org.uk/event/find-your-voice-singing-group/2025-04-07/
LOCATION:Online
ATTACH;FMTTYPE=image/png:https://carerfriendlywiltshire.org.uk/wp-content/uploads/2024/04/WSUN.png
ORGANIZER;CN="Wiltshire Service Users' Network":MAILTO: info@wsun.co.uk
END:VEVENT
BEGIN:VEVENT
DTSTART;TZID=Europe/London:20250413T090000
DTEND;TZID=Europe/London:20250413T100000
DTSTAMP:20260421T145916
CREATED:20240404T160144Z
LAST-MODIFIED:20240404T161409Z
UID:10001117-1744534800-1744538400@carerfriendlywiltshire.org.uk
SUMMARY:Chat and Connect Sessions for Parent Carers
DESCRIPTION:For parent carers of children/ young people with mental health needs. \nWhen your child is struggling with their mental health\, they can often feel completely alone. The ripple effect can leave us as parents feeling isolated\, ashamed\, or judged. \nParenting Mental Health is a charitable organisation that offers support and resources to help parents who are affected by the impact of their child’s mental health. Chat & Connect sessions are weekly informal online drop-in sessions where you can come and talk to other parents\, bring your worries\, bring your questions\, share your tips and wins and connect with others\, with people who get what you’re going through. \nThese sessions take place from Sunday 14 April 2024\, every week until Sunday 12th May 2024\,  9am-10am \nFind the joining links here.
URL:https://carerfriendlywiltshire.org.uk/event/chat-and-connect-sessions-for-parent-carers/2025-04-13/
LOCATION:Online
CATEGORIES:Parent Carer Online Group,Parent Carers
ATTACH;FMTTYPE=image/png:https://carerfriendlywiltshire.org.uk/wp-content/uploads/2024/04/Chat-Connect-Sunday.png
ORGANIZER;CN="Parenting Mental Health":MAILTO:info@parentingmentalhealth.com
END:VEVENT
BEGIN:VEVENT
DTSTART;TZID=Europe/London:20250414T133000
DTEND;TZID=Europe/London:20250414T143000
DTSTAMP:20260421T145916
CREATED:20240404T112927Z
LAST-MODIFIED:20240404T112942Z
UID:10000835-1744637400-1744641000@carerfriendlywiltshire.org.uk
SUMMARY:Find Your Voice Singing Group
DESCRIPTION:A fun online singing and social group for people with Parkinson’s\, other neurological conditions and long-term conditions and their Carers. You don’t have to be able to sing\, you don’t even need much of a voice (a whisper is fine) as we aim to help to improve the strength of your voice as well as working muscles that help with speech and swallowing.  We also have a good laugh too! \nThese sessions are weekly and are on a Monday at 1.30pm until 2.30pm\, please contact WSUN to find out more information\, 01380 871800 or info@wsun.co.uk
URL:https://carerfriendlywiltshire.org.uk/event/find-your-voice-singing-group/2025-04-14/
LOCATION:Online
ATTACH;FMTTYPE=image/png:https://carerfriendlywiltshire.org.uk/wp-content/uploads/2024/04/WSUN.png
ORGANIZER;CN="Wiltshire Service Users' Network":MAILTO: info@wsun.co.uk
END:VEVENT
BEGIN:VEVENT
DTSTART;TZID=Europe/London:20250420T090000
DTEND;TZID=Europe/London:20250420T100000
DTSTAMP:20260421T145916
CREATED:20240404T160144Z
LAST-MODIFIED:20240404T161409Z
UID:10001118-1745139600-1745143200@carerfriendlywiltshire.org.uk
SUMMARY:Chat and Connect Sessions for Parent Carers
DESCRIPTION:For parent carers of children/ young people with mental health needs. \nWhen your child is struggling with their mental health\, they can often feel completely alone. The ripple effect can leave us as parents feeling isolated\, ashamed\, or judged. \nParenting Mental Health is a charitable organisation that offers support and resources to help parents who are affected by the impact of their child’s mental health. Chat & Connect sessions are weekly informal online drop-in sessions where you can come and talk to other parents\, bring your worries\, bring your questions\, share your tips and wins and connect with others\, with people who get what you’re going through. \nThese sessions take place from Sunday 14 April 2024\, every week until Sunday 12th May 2024\,  9am-10am \nFind the joining links here.
URL:https://carerfriendlywiltshire.org.uk/event/chat-and-connect-sessions-for-parent-carers/2025-04-20/
LOCATION:Online
CATEGORIES:Parent Carer Online Group,Parent Carers
ATTACH;FMTTYPE=image/png:https://carerfriendlywiltshire.org.uk/wp-content/uploads/2024/04/Chat-Connect-Sunday.png
ORGANIZER;CN="Parenting Mental Health":MAILTO:info@parentingmentalhealth.com
END:VEVENT
BEGIN:VEVENT
DTSTART;TZID=Europe/London:20250421T133000
DTEND;TZID=Europe/London:20250421T143000
DTSTAMP:20260421T145916
CREATED:20240404T112927Z
LAST-MODIFIED:20240404T112942Z
UID:10000836-1745242200-1745245800@carerfriendlywiltshire.org.uk
SUMMARY:Find Your Voice Singing Group
DESCRIPTION:A fun online singing and social group for people with Parkinson’s\, other neurological conditions and long-term conditions and their Carers. You don’t have to be able to sing\, you don’t even need much of a voice (a whisper is fine) as we aim to help to improve the strength of your voice as well as working muscles that help with speech and swallowing.  We also have a good laugh too! \nThese sessions are weekly and are on a Monday at 1.30pm until 2.30pm\, please contact WSUN to find out more information\, 01380 871800 or info@wsun.co.uk
URL:https://carerfriendlywiltshire.org.uk/event/find-your-voice-singing-group/2025-04-21/
LOCATION:Online
ATTACH;FMTTYPE=image/png:https://carerfriendlywiltshire.org.uk/wp-content/uploads/2024/04/WSUN.png
ORGANIZER;CN="Wiltshire Service Users' Network":MAILTO: info@wsun.co.uk
END:VEVENT
BEGIN:VEVENT
DTSTART;TZID=Europe/London:20250427T090000
DTEND;TZID=Europe/London:20250427T100000
DTSTAMP:20260421T145916
CREATED:20240404T160144Z
LAST-MODIFIED:20240404T161409Z
UID:10001119-1745744400-1745748000@carerfriendlywiltshire.org.uk
SUMMARY:Chat and Connect Sessions for Parent Carers
DESCRIPTION:For parent carers of children/ young people with mental health needs. \nWhen your child is struggling with their mental health\, they can often feel completely alone. The ripple effect can leave us as parents feeling isolated\, ashamed\, or judged. \nParenting Mental Health is a charitable organisation that offers support and resources to help parents who are affected by the impact of their child’s mental health. Chat & Connect sessions are weekly informal online drop-in sessions where you can come and talk to other parents\, bring your worries\, bring your questions\, share your tips and wins and connect with others\, with people who get what you’re going through. \nThese sessions take place from Sunday 14 April 2024\, every week until Sunday 12th May 2024\,  9am-10am \nFind the joining links here.
URL:https://carerfriendlywiltshire.org.uk/event/chat-and-connect-sessions-for-parent-carers/2025-04-27/
LOCATION:Online
CATEGORIES:Parent Carer Online Group,Parent Carers
ATTACH;FMTTYPE=image/png:https://carerfriendlywiltshire.org.uk/wp-content/uploads/2024/04/Chat-Connect-Sunday.png
ORGANIZER;CN="Parenting Mental Health":MAILTO:info@parentingmentalhealth.com
END:VEVENT
BEGIN:VEVENT
DTSTART;TZID=Europe/London:20250428T133000
DTEND;TZID=Europe/London:20250428T143000
DTSTAMP:20260421T145916
CREATED:20240404T112927Z
LAST-MODIFIED:20240404T112942Z
UID:10000837-1745847000-1745850600@carerfriendlywiltshire.org.uk
SUMMARY:Find Your Voice Singing Group
DESCRIPTION:A fun online singing and social group for people with Parkinson’s\, other neurological conditions and long-term conditions and their Carers. You don’t have to be able to sing\, you don’t even need much of a voice (a whisper is fine) as we aim to help to improve the strength of your voice as well as working muscles that help with speech and swallowing.  We also have a good laugh too! \nThese sessions are weekly and are on a Monday at 1.30pm until 2.30pm\, please contact WSUN to find out more information\, 01380 871800 or info@wsun.co.uk
URL:https://carerfriendlywiltshire.org.uk/event/find-your-voice-singing-group/2025-04-28/
LOCATION:Online
ATTACH;FMTTYPE=image/png:https://carerfriendlywiltshire.org.uk/wp-content/uploads/2024/04/WSUN.png
ORGANIZER;CN="Wiltshire Service Users' Network":MAILTO: info@wsun.co.uk
END:VEVENT
END:VCALENDAR